BEGIN:VCALENDAR
VERSION:2.0
PRODID:Events Booking
BEGIN:VEVENT
UID:69e9296df1dd7
SUMMARY:Trofeo BIC- Memorial Damiano D'Anna
DESCRIPTION:Reggio Calabria
 SQUADRE PARTECIPANTI
 Crazy Ghost Battipagli
 aCUS CUS Catania
 ASD RC Basket in carrozzina
 PROGRAMMA GARE
 Gara 1 a
 lle ore 9.30\,
 Gara 2 alle ore 11.30
 terza ed ultima gara alle ore 15.
 00 di sabato 30 settembre 2023
 &nbsp\;
 &nbsp\;
LOCATION:Palasport Pentimele PalaCalafiore\, Via Francesco Abbagnara\, Arch
 i\, Reggio Calabria\, Calabria\, 89121\, Italia
DTSTART:20230929T220000Z
DTEND:20230929T220000Z
DTSTAMP:20230824T090726Z
ORGANIZER;CN=Fipic:MAILTO:noreply@federipic.it
GEO:38.1434;15.656547
X-APPLE-STRUCTURED-LOCATION;VALUE=URI;X-ADDRESS=Palasport Pentimele PalaCal
 afiore\, Via Francesco Abbagnara\, Archi\, Reggio Calabria\, Calabria\, 89
 121\, Italia;X-APPLE-RADIUS=72;X-TITLE=PalaCalafiore:38.1434;15.656547
END:VEVENT
END:VCALENDAR