BEGIN:VCALENDAR
VERSION:2.0
PRODID:Events Booking
BEGIN:VEVENT
UID:69e927b4660c8
SUMMARY:Triangolare  \"I Trofeo delle Marche\"
DESCRIPTION:Squadre&nbsp\;partecipanti:
 - ASD S.Stefano Kos Group
 - Men
 arini Farmaceutica SpA Wheelchair Sport Firenze
 - Riviera Basket ASD NTS
  Informatica
 &nbsp\;
 PROGRAMMA
 Ore 10.00 Gara 1 - S.Stefano Kos Grou
 p - NTS Riviera Basket Rimini\;
 Ore 14.00 Gara 2 - NTS Riviera Basket Ri
 mini - Menarini Wheelchair Sport Firenze\;
 Ore 17.00 Gara 3 - Menarini W
 heelchair Sport Firenze - S.Stefano Kos Group.
LOCATION:PalaPrincipi\, Viale Piemonte\, Porto Potenza Picena\, Potenza Pic
 ena\, Macerata\, Marche\, 62018\, Italia
DTSTART:20231008T080000Z
DTSTAMP:20230927T054058Z
ORGANIZER;CN=Fipic:MAILTO:noreply@federipic.it
GEO:43.353417;13.698621
X-APPLE-STRUCTURED-LOCATION;VALUE=URI;X-ADDRESS=PalaPrincipi\, Viale Piemon
 te\, Porto Potenza Picena\, Potenza Picena\, Macerata\, Marche\, 62018\, I
 talia;X-APPLE-RADIUS=72;X-TITLE=Pala Principi:43.353417;13.698621
END:VEVENT
END:VCALENDAR