BEGIN:VCALENDAR
VERSION:2.0
PRODID:Events Booking
BEGIN:VEVENT
UID:69e9272aa46d7
SUMMARY:Sport Abilità
DESCRIPTION:Incontro amichevole
 Bradipi Bologna vs. Riviera bk Rimini
LOCATION:Via Antonio Donati\, 48014 Castel bolognese RA
DTSTART:20231021T090000Z
DTEND:20231020T220000Z
DTSTAMP:20231017T054511Z
ORGANIZER;CN=Fipic:MAILTO:noreply@federipic.it
GEO:44.316552;11.792251
X-APPLE-STRUCTURED-LOCATION;VALUE=URI;X-ADDRESS=Via Antonio Donati\, 48014 
 Castel bolognese RA;X-APPLE-RADIUS=72;X-TITLE=Palasport Castelbolognese:44
 .316552;11.792251
END:VEVENT
END:VCALENDAR