BEGIN:VCALENDAR
VERSION:2.0
PRODID:Events Booking
BEGIN:VEVENT
UID:69e928a4875a4
SUMMARY:TORNEO DI BASKET IN CARROZZINA
DESCRIPTION:Torneo Basket in carrozzina
 RIMINIWELLNESS OFF\, SPORT NO LIM
 ITS
 Squadre partecipanti:
 
 RIMINI
 BOLOGNA
 VERONA
 DELFINI (mont
 ecchio maggiore)
 
DTSTART:20240601T120000Z
DTEND:20240601T215500Z
DTSTAMP:20240409T103325Z
ORGANIZER;CN=Fipic:MAILTO:noreply@federipic.it
END:VEVENT
END:VCALENDAR