BEGIN:VCALENDAR
VERSION:2.0
PRODID:Events Booking
BEGIN:VEVENT
UID:69e929be51e7f
SUMMARY:Memorial \"Lachin\, Boraso & Scantamburlo\"
DESCRIPTION:9:30 - Self Group Millennium Basket - PDM Treviso
 11:30 - Spe
 cial Bergamo Sport - Polisportiva Nordest
 &nbsp\;
 14:30 Finale 3°/4°
  Posto
 16:30 Finale 1°/2° Posto
LOCATION:Via Pozzetto 23/6\, Piombino Dese\, 35017 Veneto\, Italia
DTSTART:20231008T070000Z
DTEND:20231008T160000Z
DTSTAMP:20230920T105053Z
ORGANIZER;CN=Fipic:MAILTO:noreply@federipic.it
GEO:45.602841;11.991482
X-APPLE-STRUCTURED-LOCATION;VALUE=URI;X-ADDRESS=Via Pozzetto 23/6\, Piombin
 o Dese\, 35017 Veneto\, Italia;X-APPLE-RADIUS=72;X-TITLE=Palazzetto dello 
 Sport Piombino Dese:45.602841;11.991482
END:VEVENT
END:VCALENDAR