BEGIN:VCALENDAR
VERSION:2.0
PRODID:Events Booking
BEGIN:VEVENT
UID:69e9268a58245
SUMMARY:Memorial Davide Galletti
DESCRIPTION:Il Memorial vedrà coivolte\, in un torneo a 4 squadre\, I Brad
 ipi Bologna\, CUS Padova\, Icaro Brescia e Riviera Basket Rimini:I Bradipi
  Bologna VS Riviera Basket Rimini ore 9:30CUS Padova VS Icaro Brescia ore 
 11:303° e 4° posto ore 15:001° e 2° posto ore 17:00
DTSTART:20231001T070000Z
DTEND:20231001T160000Z
DTSTAMP:20230912T081846Z
ORGANIZER;CN=Fipic:MAILTO:noreply@federipic.it
END:VEVENT
END:VCALENDAR