BEGIN:VCALENDAR
VERSION:2.0
PRODID:Events Booking
BEGIN:VEVENT
UID:69e68045e8656
SUMMARY:CAPRI SENZA BARRIERE
DESCRIPTION:
 10.00 raduno associazioni presso la struttura
 10.30 presen
 tazione atleti e associazioni del territorio
 11.00 inizio manifestazione
 
 13.30 conclusione manifestazione
 
LOCATION:80073 Campania\, Italia
DTSTART:20240907T083000Z
DTSTAMP:20240808T071243Z
ORGANIZER;CN=Fipic:MAILTO:noreply@federipic.it
GEO:40.549303;14.243534
X-APPLE-STRUCTURED-LOCATION;VALUE=URI;X-ADDRESS=80073 Campania\, Italia;X-A
 PPLE-RADIUS=72;X-TITLE=Tensostruttura “San Costanzo” Palazzo a Mare.:4
 0.549303;14.243534
END:VEVENT
END:VCALENDAR