BEGIN:VCALENDAR
VERSION:2.0
PRODID:Events Booking
BEGIN:VEVENT
UID:69e8e0c58857b
SUMMARY:Amichevole organizzata da ASD Jailbreakers
DESCRIPTION:Polisportiva Bradipi di Bologna vs ASD Gioco Parma
LOCATION:San Cesario sul Panaro\, 41013 Emilia-Romagna\, Italia
DTSTART:20240609T160000Z
DTSTAMP:20240523T071049Z
ORGANIZER;CN=Fipic:MAILTO:noreply@federipic.it
GEO:44.571128;11.046394
X-APPLE-STRUCTURED-LOCATION;VALUE=URI;X-ADDRESS=San Cesario sul Panaro\, 41
 013 Emilia-Romagna\, Italia;X-APPLE-RADIUS=72;X-TITLE=Palestra di San Cesa
 rio Sul Panaro (MO):44.571128;11.046394
END:VEVENT
END:VCALENDAR