BEGIN:VCALENDAR
VERSION:2.0
PRODID:Events Booking
BEGIN:VEVENT
UID:69e92918046b0
SUMMARY:4° Memorial Cattafesta Luciano
DESCRIPTION:Quadrangolare&nbsp\;Isola della Scala (VR) presso il Palazzetto
  dello Sport in via Tiro a Segno di fronte alle piscine
 ore 9\,30 Olympi
 c Basket Verona - Albatros Trento&nbsp\;
 ore 11\,30 Polisportiva Gloco P
 arma I Bradipi Circolo Dozza&nbsp\;
 ore 13\,00 Pausa Pranzo&nbsp\;
 ore
  15\,00 Finale 3^ e 4^&nbsp\;
 ore 17\,00 Finale 1^ e 2^ ore 18\,30&nbsp\
 ;
 Premiazioni&nbsp\;
DTSTART:20231007T220000Z
DTEND:20231007T220000Z
DTSTAMP:20230824T090606Z
ORGANIZER;CN=Fipic:MAILTO:noreply@federipic.it
END:VEVENT
END:VCALENDAR