BEGIN:VCALENDAR
VERSION:2.0
PRODID:Events Booking
BEGIN:VEVENT
UID:69e8e402313ee
SUMMARY:3°  Torneo Città Oristano
DESCRIPTION:Sabato 18
 prima semifinale Dinamo-Seregno\, la seconda semifi
 nale D Junior Team-Don Orione.
 1° gara ore 17\,30
 2° gara ore 19\,30
 
 Domenica 19
 finale 3/4 posto tra le due perdenti la semifinalea segui
 re finale 1/2 posto tra le vincenti delle semifinali.
 1° gara ore 17\,3
 0
 2° gara ore 19\,30
 Seregno\, Dinamo Lab\, Don Orione\, D Junior&nbs
 p\;team.
 &nbsp\;
LOCATION:Via Giuseppe Morosini\, Oristano\, 09170 Sardigna/Sardegna\, Itali
 a
DTSTART:20231117T230000Z
DTEND:20231118T230000Z
DTSTAMP:20231106T130741Z
ORGANIZER;CN=Fipic:MAILTO:noreply@federipic.it
GEO:39.904263;8.579846
X-APPLE-STRUCTURED-LOCATION;VALUE=URI;X-ADDRESS=Via Giuseppe Morosini\, Ori
 stano\, 09170 Sardigna/Sardegna\, Italia;X-APPLE-RADIUS=72;X-TITLE=Palazze
 tto dello Sport Oristano:39.904263;8.579846
END:VEVENT
END:VCALENDAR