BEGIN:VCALENDAR
VERSION:2.0
PRODID:Events Booking
BEGIN:VEVENT
UID:69e8e7a7331b2
SUMMARY:24° edizione “Lo Sport non ha Handicap” “Triangolare Basket 
 in Carrozzina”
DESCRIPTION:Sabato 18 maggio 2024
 Palasport di Via Generale Liuzzi
 ore 
 9.30: Delfini 2001 – TDS Livornoore 11.00: TDS Livorno – Laumas Parmao
 re 14:00: Laumas Parma– Delfini 2001
 Domenica 19 maggio 2024
 Premiaz
 ione – Buffet presso Giardini a Mare
 &nbsp\;
LOCATION:Santa Margherita Ligure\, Genoa\, Liguria\, 16038\, Italia
DTSTART:20240517T220000Z
DTEND:20240518T220000Z
DTSTAMP:20240531T065852Z
ORGANIZER;CN=Fipic:MAILTO:noreply@federipic.it
GEO:44.33612;9.207085
X-APPLE-STRUCTURED-LOCATION;VALUE=URI;X-ADDRESS=Santa Margherita Ligure\, G
 enoa\, Liguria\, 16038\, Italia;X-APPLE-RADIUS=72;X-TITLE=Palasport Santa 
 Margherita Ligure:44.33612;9.207085
END:VEVENT
END:VCALENDAR