BEGIN:VCALENDAR
VERSION:2.0
PRODID:Events Booking
BEGIN:VEVENT
UID:69e8e6e193aef
SUMMARY:1° Torneo Regione Friuli Venezia Giulia
DESCRIPTION:
 10.30 | Nordest Gradisca vs Icaro Brescia
 15.00 | CUS Pado
 va vs Icaro Brescia
 17.00 | Nordest Gradisca vs CUS Padova
 18.30 | PRE
 MIAZIONI
 
LOCATION:Via dei Campi\, Gradisca d'Isonzo\, 34072 Friuli Venezia Giulia\, 
 Italia
DTSTART:20241110T093000Z
DTEND:20241110T180000Z
DTSTAMP:20241025T082350Z
ORGANIZER;CN=Fipic:MAILTO:noreply@federipic.it
GEO:45.89629;13.492432
X-APPLE-STRUCTURED-LOCATION;VALUE=URI;X-ADDRESS=Via dei Campi\, Gradisca d'
 Isonzo\, 34072 Friuli Venezia Giulia\, Italia;X-APPLE-RADIUS=72;X-TITLE=Pa
 lamacoratti:45.89629;13.492432
END:VEVENT
END:VCALENDAR